BEGIN:VCALENDAR
VERSION:2.0
PRODID:-//Library Market//iCal Export//EN
BEGIN:VEVENT
SUMMARY:Toddle Time
UID:11275
DTSTAMP:20260425T212900Z
DTSTART:20260508T140000Z
DTEND:20260508T143000Z
LOCATION:Community Library of Allegheny Valley, 1522 Broadview Blvd, Natro
 na Heights, PA 15065, United States
ROOM: Toddle Time
DESCRIPTION:Join Miss Judy  and Miss Erin on Fridays from 10:00 to 10:30 
 for this fun filled program geared towards children birth to 3 years of ag
 e and their participating adult. We sing, recite rhymes, share stories, an
 d do fun activities that really keep us moving! Registration is not requir
 ed, just stop in. 
URL:https://alleghenyvalley.librarycalendar.com/event/toddle-time-11275
END:VEVENT
END:VCALENDAR
